BEGIN:VCALENDAR
VERSION:2.0
PRODID:Noite-Francesinhas
X-WR-CALNAME:Noite-Francesinhas
X-WR-TIMEZONE:Europe/Lisbon
X-PUBLISHED-TTL:P1W
BEGIN:VTIMEZONE
TZID:Europe/Lisbon
X-LIC-LOCATION:Europe/Lisbon
END:VTIMEZONE
BEGIN:VEVENT
UID:69e4c7bc14d2e
DTSTART;VALUE=DATE:20260509
SEQUENCE:0
TRANSP:OPAQUE
DTEND;VALUE=DATE:20260510
SUMMARY:Noite-Francesinhas
CLASS:PUBLIC
DESCRIPTION:2ª Noite da Francesinha Comissão de Festas Santa Marinha
X-MICROSOFT-CDO-ALLDAYEVENT:TRUE
DTSTAMP:20260419T121700Z
END:VEVENT
END:VCALENDAR