BEGIN:VCALENDAR
VERSION:2.0
PRODID:Santa Marinha
X-WR-CALNAME:Santa Marinha
X-WR-TIMEZONE:Europe/Lisbon
X-PUBLISHED-TTL:P1W
BEGIN:VTIMEZONE
TZID:Europe/Lisbon
X-LIC-LOCATION:Europe/Lisbon
END:VTIMEZONE
BEGIN:VEVENT
UID:69e756ccd1829
DTSTART;VALUE=DATE:20260717
SEQUENCE:0
TRANSP:OPAQUE
DTEND;VALUE=DATE:20260718
SUMMARY:Santa Marinha
CLASS:PUBLIC
DESCRIPTION:Festa em honra a Santa Marinha\, Padroeira da nossa Freguesia
X-MICROSOFT-CDO-ALLDAYEVENT:TRUE
DTSTAMP:20260421T105156Z
END:VEVENT
END:VCALENDAR